BEGIN:VCALENDAR
VERSION:2.0
PRODID:-//Radiate People - ECPv6.15.20//NONSGML v1.0//EN
CALSCALE:GREGORIAN
METHOD:PUBLISH
X-ORIGINAL-URL:https://radiatepeople.com
X-WR-CALDESC:Events for Radiate People
REFRESH-INTERVAL;VALUE=DURATION:PT1H
X-Robots-Tag:noindex
X-PUBLISHED-TTL:PT1H
BEGIN:VTIMEZONE
TZID:America/Chicago
BEGIN:DAYLIGHT
TZOFFSETFROM:-0600
TZOFFSETTO:-0500
TZNAME:CDT
DTSTART:20250309T080000
END:DAYLIGHT
BEGIN:STANDARD
TZOFFSETFROM:-0500
TZOFFSETTO:-0600
TZNAME:CST
DTSTART:20251102T070000
END:STANDARD
BEGIN:DAYLIGHT
TZOFFSETFROM:-0600
TZOFFSETTO:-0500
TZNAME:CDT
DTSTART:20260308T080000
END:DAYLIGHT
BEGIN:STANDARD
TZOFFSETFROM:-0500
TZOFFSETTO:-0600
TZNAME:CST
DTSTART:20261101T070000
END:STANDARD
BEGIN:DAYLIGHT
TZOFFSETFROM:-0600
TZOFFSETTO:-0500
TZNAME:CDT
DTSTART:20270314T080000
END:DAYLIGHT
BEGIN:STANDARD
TZOFFSETFROM:-0500
TZOFFSETTO:-0600
TZNAME:CST
DTSTART:20271107T070000
END:STANDARD
END:VTIMEZONE
BEGIN:VTIMEZONE
TZID:UTC
BEGIN:STANDARD
TZOFFSETFROM:+0000
TZOFFSETTO:+0000
TZNAME:UTC
DTSTART:20250101T000000
END:STANDARD
END:VTIMEZONE
BEGIN:VEVENT
DTSTART;TZID=America/Chicago:20260122T140000
DTEND;TZID=America/Chicago:20260122T150000
DTSTAMP:20260425T010309
CREATED:20260108T184254Z
LAST-MODIFIED:20260108T185009Z
UID:1222-1769090400-1769094000@radiatepeople.com
SUMMARY:Radiate People Information Session
DESCRIPTION:Curious about Radiate People? Join us for an open conversation to learn how our Circles bring fractional leaders together to connect\, collaborate\, and grow. \nIn this session\, you’ll hear the story behind Radiate People\, what makes our community different\, and how membership works. We’ll walk through: \n\nWhy Radiate People was created\nWhat to expect from a Circle (structure\, format\, and facilitation)\nWho’s involved—and why they joined\nHow to apply or stay connected for future groups\n\nThis is an informal space to ask questions\, meet others exploring Radiate People\, and decide if it’s the right fit for you. \nRegister
URL:https://radiatepeople.com/event/radiate-people-information-session-2/
ATTACH;FMTTYPE=image/jpeg:https://radiatepeople.com/wp-content/uploads/2026/01/Jan22-2.jpg
END:VEVENT
BEGIN:VEVENT
DTSTART;TZID=America/Chicago:20260211T130000
DTEND;TZID=America/Chicago:20260211T140000
DTSTAMP:20260425T010309
CREATED:20260108T184657Z
LAST-MODIFIED:20260108T185101Z
UID:1226-1770814800-1770818400@radiatepeople.com
SUMMARY:Radiate People Information Session
DESCRIPTION:Curious about Radiate People? Join us for an open conversation to learn how our Circles bring fractional leaders together to connect\, collaborate\, and grow. \nIn this session\, you’ll hear the story behind Radiate People\, what makes our community different\, and how membership works. We’ll walk through: \n\nWhy Radiate People was created\nWhat to expect from a Circle (structure\, format\, and facilitation)\nWho’s involved—and why they joined\nHow to apply or stay connected for future groups\n\nThis is an informal space to ask questions\, meet others exploring Radiate People\, and decide if it’s the right fit for you. \nRegister Now
URL:https://radiatepeople.com/event/radiate-people-information-session-3/
CATEGORIES:Info Sessions
ATTACH;FMTTYPE=image/jpeg:https://radiatepeople.com/wp-content/uploads/2026/01/Feb11.jpg
END:VEVENT
BEGIN:VEVENT
DTSTART;TZID=America/Chicago:20260223T120000
DTEND;TZID=America/Chicago:20260223T130000
DTSTAMP:20260425T010309
CREATED:20260108T185333Z
LAST-MODIFIED:20260108T185333Z
UID:1233-1771848000-1771851600@radiatepeople.com
SUMMARY:Radiate People Information Session
DESCRIPTION:Curious about Radiate People? Join us for an open conversation to learn how our Circles bring fractional leaders together to connect\, collaborate\, and grow. \nIn this session\, you’ll hear the story behind Radiate People\, what makes our community different\, and how membership works. We’ll walk through: \n\nWhy Radiate People was created\nWhat to expect from a Circle (structure\, format\, and facilitation)\nWho’s involved—and why they joined\nHow to apply or stay connected for future groups\n\nThis is an informal space to ask questions\, meet others exploring Radiate People\, and decide if it’s the right fit for you. \nRegister Now
URL:https://radiatepeople.com/event/radiate-people-information-session-4/
CATEGORIES:Info Sessions
ATTACH;FMTTYPE=image/jpeg:https://radiatepeople.com/wp-content/uploads/2026/01/Feb23.jpg
END:VEVENT
BEGIN:VEVENT
DTSTART;TZID=UTC:20260227T080000
DTEND;TZID=UTC:20260227T120000
DTSTAMP:20260425T010309
CREATED:20260108T185733Z
LAST-MODIFIED:20260226T142643Z
UID:1236-1772179200-1772193600@radiatepeople.com
SUMMARY:The Solo Journey
DESCRIPTION:The Solo Journey\, A Radiate People Event\, is a half-day\, in-person gathering for professionals navigating independent work. Through real stories\, tactical learning\, and small-group conversations\, attendees gain practical tools\, trusted resources\, and space to ask real questions. \nAgenda:\n\n8:00 AM Doors open + continental breakfast. Breakfast sponsored by Insperity.\n8:30 AM Welcome from Radiate People\n8:45 AM Stories from a Solo Journey.\nA panel conversation with Brian Hanley (The Alignment Company)\, Janice Stanford (Flygirl Creative)\, Suzanne Murphy (Abeo Consulting)\, and Kelli Schneider (The Latitude Group)\n9:30 AM The Journey Expanded.\nA conversation with Kristin Nordling (Lakeside HR Group) and Jen Roth (Blue Sparq Marketing)\n10:15 Pick Your Path\nChoose three rotating breakout sessions\, 30min each based on where you are on your Solo Journey and which resources you need. Table led by: Lakeside HR Group\, The Latitude Group\, Blue Sparq Marketing\, First Resource Bank\, FMJ Law Firm\, Radiate People\, Ready – Set- Exit by Robin Edgar\, Scouts Talent\, Flygirl Creative\, Coco Coworking\, Carlson Partners and Gravie.\n12:00PM Closing and optional coworking experience at Coco til 3PM\n\nParking Available in the Gateway Ramp (400 S 3rd) \nRegister Now \nSponsors:\n \nRegister Now
URL:https://radiatepeople.com/event/the-solo-journey/
LOCATION:Coco Coworking – Downtown\, 400 South 4th Street\, Suite #401\, Minneapolis\, MN\, 55415
ATTACH;FMTTYPE=image/png:https://radiatepeople.com/wp-content/uploads/2026/01/CC-Registration-Header.2.png
END:VEVENT
BEGIN:VEVENT
DTSTART;TZID=UTC:20260408T100000
DTEND;TZID=UTC:20260408T110000
DTSTAMP:20260425T010309
CREATED:20260325T202440Z
LAST-MODIFIED:20260325T202516Z
UID:1367-1775642400-1775646000@radiatepeople.com
SUMMARY:Radiate People Information Session
DESCRIPTION:Curious if Radiate People is the right fit? Join us for a short overview of our Circles\, small\, curated groups of independent professionals who are a few years into building their practice and looking for connection\, perspective\, and a push. \nWe’ll walk through how the Circles are structured\, who they’re designed for\, and what members are experiencing. \nRegister Now
URL:https://radiatepeople.com/event/radiate-people-information-session-5/
CATEGORIES:Info Sessions
ATTACH;FMTTYPE=image/png:https://radiatepeople.com/wp-content/uploads/2026/03/Info-Session-GraphicsAPRIL.png
END:VEVENT
BEGIN:VEVENT
DTSTART;TZID=UTC:20260506T103000
DTEND;TZID=UTC:20260506T113000
DTSTAMP:20260425T010309
CREATED:20260408T181236Z
LAST-MODIFIED:20260408T193010Z
UID:1381-1778063400-1778067000@radiatepeople.com
SUMMARY:Radiate People Information Session
DESCRIPTION:Curious about Radiate People? Join us for an open conversation to learn how our Circles bring fractional leaders together to connect\, collaborate\, and grow. \nIn this session\, you’ll hear the story behind Radiate People\, what makes our community different\, and how membership works. We’ll walk through: \n\nWhy Radiate People was created\nWhat to expect from a Circle (structure\, format\, and facilitation)\nWho’s involved—and why they joined\nHow to apply or stay connected for future groups\n\nThis is an informal space to ask questions\, meet others exploring Radiate People\, and decide if it’s the right fit for you. \nRegister Now
URL:https://radiatepeople.com/event/radiate-people-information-session-6/
CATEGORIES:Info Sessions
ATTACH;FMTTYPE=image/jpeg:https://radiatepeople.com/wp-content/uploads/2026/04/1030amupdate.jpg
END:VEVENT
END:VCALENDAR