BEGIN:VCALENDAR
VERSION:2.0
PRODID:-//Radiate People - ECPv6.15.20//NONSGML v1.0//EN
CALSCALE:GREGORIAN
METHOD:PUBLISH
X-ORIGINAL-URL:https://radiatepeople.com
X-WR-CALDESC:Events for Radiate People
REFRESH-INTERVAL;VALUE=DURATION:PT1H
X-Robots-Tag:noindex
X-PUBLISHED-TTL:PT1H
BEGIN:VTIMEZONE
TZID:UTC
BEGIN:STANDARD
TZOFFSETFROM:+0000
TZOFFSETTO:+0000
TZNAME:UTC
DTSTART:20250101T000000
END:STANDARD
END:VTIMEZONE
BEGIN:VEVENT
DTSTART;TZID=UTC:20260408T100000
DTEND;TZID=UTC:20260408T110000
DTSTAMP:20260424T210907
CREATED:20260325T202440Z
LAST-MODIFIED:20260325T202516Z
UID:1367-1775642400-1775646000@radiatepeople.com
SUMMARY:Radiate People Information Session
DESCRIPTION:Curious if Radiate People is the right fit? Join us for a short overview of our Circles\, small\, curated groups of independent professionals who are a few years into building their practice and looking for connection\, perspective\, and a push. \nWe’ll walk through how the Circles are structured\, who they’re designed for\, and what members are experiencing. \nRegister Now
URL:https://radiatepeople.com/event/radiate-people-information-session-5/
CATEGORIES:Info Sessions
ATTACH;FMTTYPE=image/png:https://radiatepeople.com/wp-content/uploads/2026/03/Info-Session-GraphicsAPRIL.png
END:VEVENT
END:VCALENDAR