BEGIN:VCALENDAR
VERSION:2.0
PRODID:-//Radiate People - ECPv6.15.20//NONSGML v1.0//EN
CALSCALE:GREGORIAN
METHOD:PUBLISH
X-ORIGINAL-URL:https://radiatepeople.com
X-WR-CALDESC:Events for Radiate People
REFRESH-INTERVAL;VALUE=DURATION:PT1H
X-Robots-Tag:noindex
X-PUBLISHED-TTL:PT1H
BEGIN:VTIMEZONE
TZID:UTC
BEGIN:STANDARD
TZOFFSETFROM:+0000
TZOFFSETTO:+0000
TZNAME:UTC
DTSTART:20250101T000000
END:STANDARD
END:VTIMEZONE
BEGIN:VEVENT
DTSTART;TZID=UTC:20260227T080000
DTEND;TZID=UTC:20260227T120000
DTSTAMP:20260424T194223
CREATED:20260108T185733Z
LAST-MODIFIED:20260226T142643Z
UID:1236-1772179200-1772193600@radiatepeople.com
SUMMARY:The Solo Journey
DESCRIPTION:The Solo Journey\, A Radiate People Event\, is a half-day\, in-person gathering for professionals navigating independent work. Through real stories\, tactical learning\, and small-group conversations\, attendees gain practical tools\, trusted resources\, and space to ask real questions. \nAgenda:\n\n8:00 AM Doors open + continental breakfast. Breakfast sponsored by Insperity.\n8:30 AM Welcome from Radiate People\n8:45 AM Stories from a Solo Journey.\nA panel conversation with Brian Hanley (The Alignment Company)\, Janice Stanford (Flygirl Creative)\, Suzanne Murphy (Abeo Consulting)\, and Kelli Schneider (The Latitude Group)\n9:30 AM The Journey Expanded.\nA conversation with Kristin Nordling (Lakeside HR Group) and Jen Roth (Blue Sparq Marketing)\n10:15 Pick Your Path\nChoose three rotating breakout sessions\, 30min each based on where you are on your Solo Journey and which resources you need. Table led by: Lakeside HR Group\, The Latitude Group\, Blue Sparq Marketing\, First Resource Bank\, FMJ Law Firm\, Radiate People\, Ready – Set- Exit by Robin Edgar\, Scouts Talent\, Flygirl Creative\, Coco Coworking\, Carlson Partners and Gravie.\n12:00PM Closing and optional coworking experience at Coco til 3PM\n\nParking Available in the Gateway Ramp (400 S 3rd) \nRegister Now \nSponsors:\n \nRegister Now
URL:https://radiatepeople.com/event/the-solo-journey/
LOCATION:Coco Coworking – Downtown\, 400 South 4th Street\, Suite #401\, Minneapolis\, MN\, 55415
ATTACH;FMTTYPE=image/png:https://radiatepeople.com/wp-content/uploads/2026/01/CC-Registration-Header.2.png
END:VEVENT
END:VCALENDAR